BEGIN:VCALENDAR
VERSION:2.0
PRODID:www.thehotelretlaw.com
X-WR-CALNAME:Calendar Of Events
X-WR-CALDESC:Lists the events
X-WR-TIMEZONE:America/Chicago
BEGIN:VTIMEZONE
TZID:America/Chicago
X-LIC-LOCATION:America/Chicago
END:VTIMEZONE
BEGIN:VEVENT
UID:69e6f8f478794
DTSTART;VALUE=DATE:20250809
SEQUENCE:0
TRANSP:OPAQUE
URL:https://www.thehotelretlaw.com/experience/calendar/live-music-at-table-
 one
SUMMARY:Live Music at Table One
CLASS:PUBLIC
DESCRIPTION:Live Music at Table One\n\nJoin us for an evening of live music
  featuring Christian Timm!
RRULE:FREQ=DAILY;INTERVAL=1
X-MICROSOFT-CDO-ALLDAYEVENT:TRUE
DTSTAMP:20260421T041132Z
END:VEVENT
BEGIN:VEVENT
UID:69e6f8f4796a2
DTSTART;VALUE=DATE:20250906
SEQUENCE:0
TRANSP:OPAQUE
URL:https://www.thehotelretlaw.com/experience/calendar/fondue-fest-2025
SUMMARY:Fondue Fest 2025
CLASS:PUBLIC
DESCRIPTION:Fondue Fest 2025\n\nFond du Lac's largest one-day festival!
RRULE:FREQ=DAILY;INTERVAL=1
X-MICROSOFT-CDO-ALLDAYEVENT:TRUE
DTSTAMP:20260421T041132Z
END:VEVENT
BEGIN:VEVENT
UID:69e6f8f479fe8
DTSTART;VALUE=DATE:20251017
SEQUENCE:0
TRANSP:OPAQUE
URL:https://www.thehotelretlaw.com/experience/calendar/test
SUMMARY:Test
CLASS:PUBLIC
DESCRIPTION:Test\n\nTest
RRULE:FREQ=DAILY;INTERVAL=1
X-MICROSOFT-CDO-ALLDAYEVENT:TRUE
DTSTAMP:20260421T041132Z
END:VEVENT
BEGIN:VEVENT
UID:69e6f8f47a94d
DTSTART;VALUE=DATE:20251017
SEQUENCE:0
TRANSP:OPAQUE
URL:https://www.thehotelretlaw.com/experience/calendar/test2
SUMMARY:Test2
CLASS:PUBLIC
DESCRIPTION:Test2\n\ntest
RRULE:FREQ=DAILY;INTERVAL=1
X-MICROSOFT-CDO-ALLDAYEVENT:TRUE
CATEGORIES:Culinary/Food
DTSTAMP:20260421T041132Z
END:VEVENT
BEGIN:VEVENT
UID:69e6f8f47b31c
DTSTART;VALUE=DATE:20251026
SEQUENCE:0
TRANSP:OPAQUE
URL:https://www.thehotelretlaw.com/experience/calendar/the-wisconsin-supper
 -club
SUMMARY:The Wisconsin Supper Club
CLASS:PUBLIC
DESCRIPTION:The Wisconsin Supper Club\n\nThe Wisconsin Supper Club Tour!  J
 oin us at Hotel Retlaw and Table One!
RRULE:FREQ=DAILY;INTERVAL=1
X-MICROSOFT-CDO-ALLDAYEVENT:TRUE
DTSTAMP:20260421T041132Z
END:VEVENT
END:VCALENDAR